Workbook
Name _: #REF!
Name _: #REF!
Name _: #REF!
Name ______ELL45: #REF!
Name ______ELL90: #REF!
Name ______RE100: #REF!
Name ______RE104: #REF!
Name ______RE112: #REF!
Name ______RE26: #REF!
Name ______RE28: #REF!
Name ______RE30: #REF!
Name ______RE32: #REF!
Name ______RE34: #REF!
Name ______RE36: #REF!
Name ______RE38: #REF!
Name ______RE40: #REF!
Name ______RE42: #REF!
Name ______RE44: #REF!
Name ______RE48: #REF!
Name ______RE52: #REF!
Name ______RE56: #REF!
Name ______RE60: #REF!
Name ______RE64: #REF!
Name ______RE68: #REF!
Name ______RE72: #REF!
Name ______RE76: #REF!
Name ______RE80: #REF!
Name ______RE88: #REF!
Name ______RE92: #REF!
Name ______RE96: #REF!
Name ______SUB1: #REF!
Name ______SUB2: #REF!
Name ______SUB3: #REF!
Name ______sub4: #REF!
Name ______sub5: #REF!
Name _____ELL45: #REF!
Name _____ELL90: #REF!
Name _____RE100: #REF!
Name _____RE104: #REF!
Name _____RE112: #REF!
Name _____RE26: #REF!
Name _____RE28: #REF!
Name _____RE30: #REF!
Name _____RE32: #REF!
Name _____RE34: #REF!
Name _____RE36: #REF!
Name _____RE38: #REF!
Name _____RE40: #REF!
Name _____RE42: #REF!
Name _____RE44: #REF!
Name _____RE48: #REF!
Name _____RE52: #REF!
Name _____RE56: #REF!
Name _____RE60: #REF!
Name _____RE64: #REF!
Name _____RE68: #REF!
Name _____RE72: #REF!
Name _____RE76: #REF!
Name _____RE80: #REF!
Name _____RE88: #REF!

Sheet 공사비 내역서
B1: 공 사 비 내 역 서
B3: 공사명: 교보생명교보타워 외벽타일 보수 공사 | M3: (금액단위: 원, 부가세별도)
B4: 종 별 | C4: 규격 | D4: 단위 | E4: 수 량 | F4: 재료비 | H4: 노무비 | J4: 경비 | L4: 합계 | N4: 비 고
F5: 단가 | G5: 금액 | H5: 단가 | I5: 금액 | J5: 단가 | K5: 금액 | L5: 단가 | M5: 금액
B6: 1.가설공사
B7: 4층 옥상 채광창 유리 보양 | C7: 합판+폴리베니아 | D7: =산출조서!E5 -> ㎡ | E7: =산출조서!C6 -> 360
B8: 곤도라 설치해체 | D8: 회 | E8: =산출조서!F7 -> 20 | N8: 검사비, 장비비포함
B9: 곤도라 임대료 | D9: 일 | E9: 90
B10: 안전요원 | C10: 특별인부 | D10: 인 | E10: 90
B11: 현장정리 | C11: 보통인부 | D11: 인 | E11: 90
B12: 소 계 | G12: =SUM(G7:G11) -> 0 | I12: =SUM(I7:I11) -> 0 | K12: =SUM(K7:K11) -> 0 | M12: =SUM(M7:M11) -> 0
B13: 2. 타일 보수공사(553 장)
B14: 타일 보수(I-TYPE) | C14: 평면형 | D14: 장 | E14: =553-E15 -> 220
B15: 타일 보수(H-TYPE) | C15: 요철형 | D15: 장 | E15: 333
B16: 소 계 | G16: =SUM(G14:G15) -> 0 | I16: =SUM(I14:I15) -> 0 | K16: =SUM(K14:K15) -> 0 | M16: =SUM(M14:M15) -> 0
B17: 3. 실링재 보수 | C17: 다우코닝977 | D17: =산출조서!D5 -> m | E17: =산출조서!D9 -> 4824
B18: 4. 외벽청소 | C18: 공사완료 후 | D18: ㎡ | E18: =산출조서!E10 -> 3265.92 | G18: =F18*E18 -> 0 | I18: =H18*E18 -> 0 | K18: =J18*E18 -> 0 | L18: =J18+H18+F18 -> 0 | M18: =L18*E18 -> 0 | N18: 외벽외유리세척공사에서 진행
B21: 산재보험료 | C21: 노무비×3.73% | D21: 식 | E21: 1 | K21: =ROUND(I31*3.73%,0) -> 0 | M21: =G21+I21+K21 -> 0
B22: 고용보험료 | C22: 노무비×1.01% | D22: 식 | E22: 1 | K22: =ROUND(I31*1.01%,0) -> 0 | M22: =G22+I22+K22 -> 0
B23: 건강보험료 | C23: 직노×3.495% | D23: 식 | E23: 1 | K23: =ROUND(I31*3.495%,0) -> 0 | M23: =G23+I23+K23 -> 0
B24: 연금보험료 | C24: 직노×4.50% | D24: 식 | E24: 1 | K24: =ROUND(I31*4.5%,0) -> 0 | M24: =G24+I24+K24 -> 0
B25: 노인장기요양 보험료 | C25: 건강보험료×12.27% | D25: 식 | E25: 1 | K25: =ROUND(K23*12.27%,0) -> 0 | M25: =G25+I25+K25 -> 0
B26: 산업안전보건관리비 | C26: (재+직노)×2.93% | D26: 식 | E26: 1 | K26: =ROUND(SUM(I31,G31)*2.93%,0) -> 0 | M26: =G26+I26+K26 -> 0
B27: 폐기물처리 및 현장정리 | C27: 시중가 | D27: ton | E27: 4 | K27: =J27*E27 -> 0 | M27: =G27+I27+K27 -> 0
B28: 일반관리비 | C28: (재+노+경)×6% 이내 | D28: 식 | E28: 1 | M28: =ROUND(SUM(G31,I31,K31)*4%,0) -> 0
B29: 이윤 | C29: (노+경+관)×15% 이내 | D29: 식 | E29: 1 | M29: =ROUND(SUM(I31,K31,M28)*9%,0) -> 0
O30: =M30*1.1 -> 0
B31: 합 계 | G31: =G18+G17+G16+G12 -> 0 | I31: =I18+I17+I16+I12 -> 0 | K31: =K27+K26+K25+K24+K23+K22+K21+K12 -> 0 | M31: =ROUND(M29+M28+M27+M26+M25+M24+M23+M22+M21+M18+M17+M16+M12, -5) -> 0 | O31: =M31 -> 0 | P31: =G31+I31+K31+M29+M28 -> 0
N33: =M31*1.1 -> 0

Sheet 산출조서
A1: 산 출 기 초 조 서
A3: 사옥명 | B3: Project: 외벽타일 보수 공사 | I3: 비고
A4: 교보타워
A5: 종 별 | B5: 수량 계산 | C5: ㎡ | D5: m | E5: ㎡ | F5: 회 | G5: 대 | H5: 장
A6: 1. 4층 옥상 채광창 유리 보양 | B6: 12*30 | C6: =12*30 -> 360
A7: 2. 곤도라 이동 | B7: 1회: A동 VIEW (1-a,b),(2-a,b), (3-a,b),(4-a,b),(연결통로-a,b)*2 | F7: 20 | I7: 설치 및 해체
A8: 3. 타일 보수 | B8: 4~19F 동 간 연결부분 불량타일 | H8: 553
A9: 4. 실링재 보수 | B9: ((3.95*2)+(3.95*2+5.6)+(5.6*46)+(68*2)+(3.7*46)+((7.4*3)+(7.4*6)+(6.2*40)+(68*2)+(3.7*46))*2*2 | D9: =((3.95*2)+(3.95*2+5.6)+(5.6*46)+(68*2)+(3.7*46)+(7.4*3)+(7.4*6)+(6.2*40)+(68*2)+(3.7*46))*2*2 -> 4824 | I9: 완전제거 후 신규시공
A10: 5. 외벽 청소 | B10: ((5.4+6.75)*67.2)*2*2 | E10: =((5.4+6.75)*67.2)*2*2 -> 3265.92
A11: 6. 폐기물처리 및 현장정리 | G11: 4
A12: 소 계 | C12: =SUM(C6:C11) -> 360 | D12: =SUM(D6:D11) -> 4824 | E12: =SUM(E6:E11) -> 3265.92 | F12: =SUM(F6:F11) -> 20 | G12: =SUM(G6:G11) -> 4 | H12: =SUM(H6:H11) -> 553

Sheet 총괄집계표
A1: 총 괄 집 계 표 | K1: 절대 지우지마시오
A2: 현장명: 교보생명교보타워
A3: 총 수 량 (단위 매) | C3: 구 분 | E3: 불량종류구분 | F3: 동 측(A 동) | G3: 서 측(B 동) | H3: 합 계 | I3: 불량률(%) | J3: 비 고 | K3: =B19 -> 199026
A4: 동측(A동)타일총수량 | B4: 99513 | C4: 탈 락 | D4: A | E4: 1.전체 | F4: 6 | G4: 2 | H4: =SUM(F4:G4) -> 8 | I4: 4e-05 | K4: =K3 -> 199026
A5: 불량타일수량 | B5: 344 | E5: 2.일부 | F5: 1 | G5: 3 | H5: =SUM(F5:G5) -> 4 | I5: 2e-05 | K5: =K4 -> 199026
A6: 불량율(%) | B6: =B5/B4 -> 0.0034568348 | E6: 소 계 | F6: =SUM(F4:F5) -> 7 | G6: =SUM(G4:G5) -> 5 | H6: =SUM(H4:H5) -> 12 | I6: 6e-05 | K6: =K5 -> 199026
A7: 서측(B동)타일총수량 | B7: 99513 | C7: 박 락 | D7: B | E7: 5㎠ 이상 | F7: 51 | G7: 23 | H7: =SUM(F7:G7) -> 74 | I7: 0.00037 | K7: =K6 -> 199026
A8: 불량타일수량 | B8: 209 | C8: 균 열 | D8: C | E8: 1.0.2mm이상 | F8: 65 | G8: 47 | H8: =SUM(F8:G8) -> 112 | I8: 0.00056 | K8: =K7 -> 199026
A9: 불량율(%) | B9: =B8/B7 -> 0.0021002281 | E9: 2.1.0mm이상 | F9: 1 | G9: 2 | H9: =SUM(F9:G9) -> 3 | I9: 1e-05 | K9: =K8 -> 199026
E10: 소 계 | F10: =SUM(F8:F9) -> 66 | G10: =SUM(G8:G9) -> 49 | H10: =SUM(H8:H9) -> 115 | I10: 0.00057 | K10: =K9 -> 199026
C11: 들 뜸 | D11: D | E11: 1.전체 | F11: 172 | G11: 107 | H11: =SUM(F11:G11) -> 279 | I11: 0.0014 | K11: =K10 -> 199026
E12: 2.일부 | F12: 48 | G12: 25 | H12: =SUM(F12:G12) -> 73 | I12: 0.00036 | K12: =K11 -> 199026
E13: 소 계 | F13: =SUM(F11:F12) -> 220 | G13: =SUM(G11:G12) -> 132 | H13: =SUM(H11:H12) -> 352 | I13: 0.00177 | K13: =K12 -> 199026
C14: 합 계 | F14: 344 | G14: 209 | H14: =H13+H10+H7+H6 -> 553 | I14: 0.00278 | K14: =K13 -> 199026
C15: 불량율(%) | F15: =B6 -> 0.0034568348 | G15: =B9 -> 0.0021002281 | H15: 0.00278
C16: 오 염 | D16: E | E16: 오염 | F16: 50 | G16: 92 | H16: =SUM(F16:G16) -> 142
C17: 코너파손 | D17: F | E17: PC | H17: =SUM(F17:G17) -> 0
C18: 줄눈손상 오 염 | D18: G | E18: 1.탈락,철근노출 | H18: =SUM(F18:G18) -> 0
A19: 총타일수량 | B19: =B7+B4 -> 199026 | E19: 2.오염 | H19: =SUM(F19:G19) -> 0
A20: 불량타일총수량 | B20: =B14+B11+B8+B5 -> 553 | E20: 3.틸락.파손 | F20: 189 | G20: 1250 | H20: =SUM(F20:G20) -> 1439
A21: 불량율(%) | B21: =B20/B19 -> 0.0027785314 | C21: 실링제 | D21: H | E21: 주름,균열 | F21: 84 | G21: 144 | H21: =SUM(F21:G21) -> 228

Sheet 실링재 신축줄눈
A1: 물 량 산 출 기 초 조 서
A2: 공 사 명: 교보생명교보타워 외벽타일 보수 공사
A3: 구 분 | B3: 수량 산출근거 | C3: 수량 | D3: H TYPE | F3: I TYPE | H3: 비 고
D4: A동 VIEW1, 4 | E4: B동 VIEW5, 8 | F4: A동 VIEW2, 3 | G4: B동 VIEW6,7
A5: 신축줄눈 | D5: M | E5: M | F5: M | G5: M
B6: A동
A7: A동 VIEW1, 4 | B7: ((3.95*2)+(3.95*2+5.6)+(5.6*46)+(68*2))*2*2 | C7: =((3.95*2)+(3.95*2+5.6)+(5.6*46)+(68*2))*2*2 -> 1660 | D7: =C7 -> 1660
A8: A동 VIEW2, 3 | B8: (3.7*46)*2*2 | C8: =(3.7*46)*2*2 -> 680.8 | F8: =C8 -> 680.8
B9: B동
A10: B동 VIEW5, 8 | B10: ((7.4*3)+(7.4*6)+(6.2*40)+(68*2))*2*2 | C10: =((7.4*3)+(7.4*6)+(6.2*40)+(68*2))*2*2 -> 1802.4 | E10: =C10 -> 1802.4
A11: B동 VIEW6, 7 | B11: (3.7*46)*2*2 | C11: =(3.7*46)*2*2 -> 680.8 | G11: =C11 -> 680.8
A12: 소 계 | D12: =SUM(D6:D11) -> 1660 | E12: =SUM(E6:E11) -> 1802.4 | F12: =SUM(F6:F11) -> 680.8 | G12: =SUM(G6:G11) -> 680.8
A13: 합계 | D13: =D12+E12+F12+G12 -> 4824

Sheet 사진철(참고)
B2: 공사 사진철
B4: 공 사 명: | C4: 교보생명교보타워 외벽타일 보수 공사
B6: 현재상태: | C6: 2021년 교보타워 4~19층 동 간 연결부분 외벽타일 조사진단결과에 대한 후속 조치 공사
C7: 교보타워 외벽타일 탈락 및 박락, 균열, 들뜸 등 불량타일에 대한 보수 공사
C8: 외벽마감재의 안전성 확보 및 안전사고 사전 예방으로 대외적 이미지 제고
B11: 사진을 덮어씌우는 곳 | G11: 사진을 덮어씌우는 곳
B21: 사진설명: 외벽타일 탈락 | G21: 사진설명: 외벽타일 박락
B25: 사진을 덮어씌우는 곳 | G25: 사진을 덮어씌우는 곳
B35: 사진설명: 외벽타일 균열 | G35: 사진설명: 외벽타일 들뜸
